BEGIN:VCALENDAR
VERSION:2.0
PRODID:-//Plone.org//NONSGML plone.app.event//EN
X-WR-TIMEZONE:Europe/Berlin
BEGIN:VEVENT
SUMMARY:All Creatures Welcome
DTSTART;TZID=Europe/Berlin;VALUE=DATE-TIME:20190629T190000
DTEND;TZID=Europe/Berlin;VALUE=DATE-TIME:20190629T230000
DTSTAMP;VALUE=DATE-TIME:20260421T100012Z
UID:054baa676ff4473b84f4e23f67f50797@localhost:8090
CATEGORIES:ccc,Camp
CONTACT:https://cairo.wue.de/veranstaltung/film-all-creatures-welcome
CREATED;VALUE=DATE-TIME:20190605T151911Z
LAST-MODIFIED;VALUE=DATE-TIME:20190611T083956Z
LOCATION:Jugendkulturhaus Cairo
URL:https://webbox.nerd2nerd.org/events/all-creatures-welcome
END:VEVENT
BEGIN:VTIMEZONE
TZID:Europe/Berlin
X-LIC-LOCATION:Europe/Berlin
BEGIN:DAYLIGHT
DTSTART;VALUE=DATE-TIME:20190331T030000
TZNAME:CEST
TZOFFSETFROM:+0100
TZOFFSETTO:+0200
END:DAYLIGHT
END:VTIMEZONE
END:VCALENDAR
