BEGIN:VCALENDAR
VERSION:2.0
PRODID:-//Plone.org//NONSGML plone.app.event//EN
X-WR-TIMEZONE:Europe/Berlin
BEGIN:VEVENT
SUMMARY:Datenspuren 2019
DTSTART;VALUE=DATE:20190921
DTEND;VALUE=DATE:20190923
DTSTAMP;VALUE=DATE-TIME:20260421T041558Z
UID:059d0f2cff3f416a9323de9d189c3ed0@localhost:8090
CATEGORIES:ccc,datenspuren
CONTACT:https://datenspuren.de/2019/
CREATED;VALUE=DATE-TIME:20190908T164301Z
DESCRIPTION:Eine Konferenz des Chaos Computer Club Dresden
LAST-MODIFIED;VALUE=DATE-TIME:20190908T164343Z
LOCATION:Zentralwerk\, Dresden
URL:https://webbox.nerd2nerd.org/events/datenspuren-2019
END:VEVENT
END:VCALENDAR
