BEGIN:VCALENDAR
VERSION:2.0
PRODID:-//Plone.org//NONSGML plone.app.event//EN
X-WR-TIMEZONE:Europe/Berlin
BEGIN:VEVENT
SUMMARY:Digital Self Defense
DTSTART;TZID=Europe/Berlin;VALUE=DATE-TIME:20221027T183000
DTEND;TZID=Europe/Berlin;VALUE=DATE-TIME:20221027T210000
DTSTAMP;VALUE=DATE-TIME:20260421T102701Z
UID:2583b81d2d99490a86a34109ff2a61d7@localhost:8090
CATEGORIES:Würzburger Web Week,N2N,FabLab
CONTACT:https://fablab-wuerzburg.de
CREATED;VALUE=DATE-TIME:20220920T084134Z
LAST-MODIFIED;VALUE=DATE-TIME:20220920T084356Z
LOCATION:FabLab Würzburg
URL:https://webbox.nerd2nerd.org/events/digital-self-defense-1
END:VEVENT
BEGIN:VTIMEZONE
TZID:Europe/Berlin
X-LIC-LOCATION:Europe/Berlin
BEGIN:DAYLIGHT
DTSTART;VALUE=DATE-TIME:20220327T030000
TZNAME:CEST
TZOFFSETFROM:+0100
TZOFFSETTO:+0200
END:DAYLIGHT
END:VTIMEZONE
END:VCALENDAR
