BEGIN:VCALENDAR
VERSION:2.0
PRODID:-//Plone.org//NONSGML plone.app.event//EN
X-WR-TIMEZONE:Europe/Berlin
BEGIN:VEVENT
SUMMARY:EasterHegg 2019
DTSTART;VALUE=DATE:20190419
DTEND;VALUE=DATE:20190423
DTSTAMP;VALUE=DATE-TIME:20260421T094748Z
UID:298e36fbb91643e09a83cc79d7c60938@localhost:8090
CATEGORIES:CCC,Easterhegg
CONTACT:https://eh19.easterhegg.eu/
CREATED;VALUE=DATE-TIME:20190114T121916Z
LAST-MODIFIED;VALUE=DATE-TIME:20190114T121926Z
LOCATION:Wien
URL:https://webbox.nerd2nerd.org/events/easterhegg-2019
END:VEVENT
END:VCALENDAR
