BEGIN:VCALENDAR
VERSION:2.0
PRODID:-//Plone.org//NONSGML plone.app.event//EN
X-WR-TIMEZONE:Europe/Berlin
BEGIN:VEVENT
SUMMARY:Keiner hackt feiner! Besucht uns am internationalen Tag des offene
 n Hackspaces!
DTSTART;TZID=Europe/Berlin;VALUE=DATE-TIME:20230325T140000
DTEND;TZID=Europe/Berlin;VALUE=DATE-TIME:20230325T210000
DTSTAMP;VALUE=DATE-TIME:20260420T204443Z
UID:f90388de5d02434da94c650dd78f0443@localhost:8090
CATEGORIES:CCC,FabLab
CONTACT:https://fablab-wuerzburg.de/
CREATED;VALUE=DATE-TIME:20230316T135505Z
LAST-MODIFIED;VALUE=DATE-TIME:20230316T135513Z
LOCATION:FabLab Würzburg
URL:https://webbox.nerd2nerd.org/events/keiner-hackt-feiner-besucht-uns-am
 -internationalen-tag-des-offenen-hackspaces
END:VEVENT
BEGIN:VTIMEZONE
TZID:Europe/Berlin
X-LIC-LOCATION:Europe/Berlin
BEGIN:STANDARD
DTSTART;VALUE=DATE-TIME:20221030T020000
TZNAME:CET
TZOFFSETFROM:+0200
TZOFFSETTO:+0100
END:STANDARD
END:VTIMEZONE
END:VCALENDAR
