BEGIN:VCALENDAR
VERSION:2.0
PRODID:-//Plone.org//NONSGML plone.app.event//EN
X-WR-TIMEZONE:Europe/Berlin
BEGIN:VEVENT
SUMMARY:Let's Kryptoparty!
DTSTART;TZID=Europe/Berlin;VALUE=DATE-TIME:20171121T190000
DTSTAMP;VALUE=DATE-TIME:20260421T041335Z
UID:07367e930363499da72e94a458536685@localhost:8090
CATEGORIES:N2N,Kryptoparty
CONTACT:https://cairo.wue.de/veranstaltung/lets-kryptoparty
CREATED;VALUE=DATE-TIME:20171119T182820Z
LAST-MODIFIED;VALUE=DATE-TIME:20171119T182923Z
LOCATION:Cairo\, Würzburg
URL:https://webbox.nerd2nerd.org/events/lets-kryptoparty
END:VEVENT
BEGIN:VTIMEZONE
TZID:Europe/Berlin
X-LIC-LOCATION:Europe/Berlin
BEGIN:STANDARD
DTSTART;VALUE=DATE-TIME:20171029T020000
TZNAME:CET
TZOFFSETFROM:+0200
TZOFFSETTO:+0100
END:STANDARD
END:VTIMEZONE
END:VCALENDAR
