BEGIN:VCALENDAR
VERSION:2.0
PRODID:-//Plone.org//NONSGML plone.app.event//EN
X-WR-TIMEZONE:Europe/Berlin
BEGIN:VEVENT
SUMMARY:MRMCD 2019
DTSTART;VALUE=DATE:20190913
DTEND;VALUE=DATE:20190916
DTSTAMP;VALUE=DATE-TIME:20260421T041259Z
UID:d29df45246c44c3eb76c538fe1d8b4d9@localhost:8090
CATEGORIES:ccc,mrmcd
CONTACT:https://2019.mrmcd.net/
CREATED;VALUE=DATE-TIME:20190908T164051Z
LAST-MODIFIED;VALUE=DATE-TIME:20190908T164355Z
LOCATION:TU Darmstadt
URL:https://webbox.nerd2nerd.org/events/mrmcd-2019
END:VEVENT
END:VCALENDAR
